BEGIN:VCALENDAR
VERSION:2.0
PRODID:-//Bay Twisters - ECPv5.3.1.1//NONSGML v1.0//EN
CALSCALE:GREGORIAN
METHOD:PUBLISH
X-WR-CALNAME:Bay Twisters
X-ORIGINAL-URL:https://baytwisters.co.nz
X-WR-CALDESC:Events for Bay Twisters
BEGIN:VTIMEZONE
TZID:UTC
BEGIN:STANDARD
TZOFFSETFROM:+0000
TZOFFSETTO:+0000
TZNAME:UTC
DTSTART:20200101T000000
END:STANDARD
END:VTIMEZONE
BEGIN:VEVENT
DTSTART;TZID=UTC:20200229T080000
DTEND;TZID=UTC:20200229T170000
DTSTAMP:20210120T030930
CREATED:20191203T201725Z
LAST-MODIFIED:20191203T202920Z
UID:275-1582963200-1582995600@baytwisters.co.nz
SUMMARY:Mandatory Choreography Date Sat 29 Feb
DESCRIPTION:All athletes MUST attend or we can’t guarantee your placement in the team
URL:https://baytwisters.co.nz/event/mandatory-choreography-date-sat-29-feb/
LOCATION:Bay Twisters Gymnasium\, 65A Maleme Street\, Greerton\, Tauranga\, 3112\, New Zealand
CATEGORIES:Choreography
END:VEVENT
END:VCALENDAR